BEGIN:VCALENDAR
VERSION:2.0
PRODID:-//eventon.com NONSGML v1.0//EN
BEGIN:VEVENT
UID:69eb4b9c8292c
DTSTAMP:20260424T125316
DTSTART:20250605T173000Z
DTEND:20250605T200000Z
LOCATION:Restaurant Burehuus Frutigenstrasse 44\,  3600 Thun
SUMMARY:Weinseminar in Thun
DESCRIPTION: [vc_row][vc_column][vc_column_text] Wie und wo wird Wein produziert – welche Traubensorte gibt es – welche Weinstile gibt es – was sind Qualitätsmerkmale eines guten Weines – was bedeuten verschiedene Weinausdrücke wie z. B. trockener Wein - wie wird Wein professionell degustiert - welche Weine passen zu welchen Speisen - der Umgang[..]
END:VEVENT
END:VCALENDAR